BEGIN:VCALENDAR
PRODID:NingEventWidget-v1
VERSION:2.0
METHOD:PUBLISH
BEGIN:VEVENT
UID:3186561:Event:35296
DTSTAMP:20210313T171306Z
SUMMARY:UPDATED: April 3rd Arapahoe Tea Party Monthly Meeting With Joh
 n Andrews-SPECIAL TIME
DESCRIPTION:SPECIAL TIME: 7-9 PM.  DISCUSS STRUCTURE AND BYLAWS FOR A
 TP AND MAKING A DIFFERENCE, NOW!, IN THE 2012 ELECTION WITH AMERICANS 
 FOR PROSPERITY\nJOHN RANSOM FROM TOWNHALL.COM/FINANCE WILL JOIN US\nSP
 ECIAL GUEST JOHN ANDREWS IN-PERSON WITH HIS IMPORTANT NEW BOOK FOR 201
 2 AND BEYOND\nJohn Andrews is director of the Centennial Institute, a 
 public policy think tank at Colorado Christian University, and author 
 of the new book Responsibility Reborn: A Citizen's Guide to the Next A
 merican Century.\nHe previously served as President of the Colorado Se
 nate, helped enact the Taxpayer’s Bill of Rights, and founded the In
 dependence Institute as well as the State Policy Network.\nSenator And
 rews does regular commentary for the Denver Post and Colorado Public T
 elevision, chairs the annual Western Conservative Summit, and consults
  for legislative leaders across the country.\nHe was a speechwriter fo
 r President Nixon, an education adviser for President Reagan, an appoi
 ntee of both Bush 41 and Bush 43 – and he ran for Governor of Colora
 do as the Republican nominee in 1990.\nJohn grew up in the Colorado mo
 untains, graduated from Principia College, and served as a US Navy sub
 marine officer. \nHe and Donna, his wife of 44 years, have three grow
 n children as well as a grandson in third grade, Ian Michael, who will
  become a Republican registered voter in 2020. \n\nFor more informati
 on visit http://arapahoeteaparty.ning.com/events/april-3rd-arapahoe-te
 a-party-monthly-meeting-with-john-andrews-sp
DTSTART:20120404T010000Z
DTEND:20120404T030000Z
CATEGORIES:monthly, tea, party, meeting
LOCATION:Smoky Hill Library
WEBSITE:http://maps.google.com/maps/ms?ie=UTF8&hl=en&msa=0&msid=111947
 304187195641637.0004892bdec006a7f74ed&ll=39.623673,-104.757729&spn=0.1
 02737,0.222988&z=13&iwloc=000490b9107192c33feb5
URL:http://maps.google.com/maps/ms?ie=UTF8&hl=en&msa=0&msid=1119473041
 87195641637.0004892bdec006a7f74ed&ll=39.623673,-104.757729&spn=0.10273
 7,0.222988&z=13&iwloc=000490b9107192c33feb5
CONTACT:303-885-2550
ORGANIZER:Randy B Corporon, Chairman
ATTACH;FMTTYPE="image/jpeg":http://storage.ning.com/topology/rest/1.0/
 file/get/2275982250?profile=original
ATTENDEE;ROLE=REQ-PARTICIPANT;PARTSTAT=ACCEPTED;RSVP=TRUE;CN="John R. 
 Ramsli":http://arapahoeteaparty.ning.com/profile/JohnRRamsli
ATTENDEE;ROLE=REQ-PARTICIPANT;PARTSTAT=ACCEPTED;RSVP=TRUE;CN="Lou Schr
 oeder":http://arapahoeteaparty.ning.com/profile/LouSchroeder
ATTENDEE;ROLE=REQ-PARTICIPANT;PARTSTAT=ACCEPTED;RSVP=TRUE;CN="Kevin Ke
 ator":http://arapahoeteaparty.ning.com/profile/KevinKeator
ATTENDEE;ROLE=REQ-PARTICIPANT;PARTSTAT=ACCEPTED;RSVP=TRUE;CN="Randy B 
 Corporon":http://arapahoeteaparty.ning.com/profile/RandyBCorporon
ATTENDEE;ROLE=REQ-PARTICIPANT;PARTSTAT=ACCEPTED;RSVP=TRUE;CN="Brad Hug
 es":http://arapahoeteaparty.ning.com/profile/BradHuges
ATTENDEE;ROLE=REQ-PARTICIPANT;PARTSTAT=ACCEPTED;RSVP=TRUE;CN="Ann Pete
 rspn":http://arapahoeteaparty.ning.com/profile/AnnPeterspn
ATTENDEE;ROLE=REQ-PARTICIPANT;PARTSTAT=ACCEPTED;RSVP=TRUE;CN="W. Brans
 tetter":http://arapahoeteaparty.ning.com/profile/WBranstetter
ATTENDEE;ROLE=REQ-PARTICIPANT;PARTSTAT=ACCEPTED;RSVP=TRUE;CN="Steven H
 aworth":http://arapahoeteaparty.ning.com/profile/StevenHaworth
ATTENDEE;ROLE=REQ-PARTICIPANT;PARTSTAT=ACCEPTED;RSVP=TRUE;CN="Fredrick
  Lindner":http://arapahoeteaparty.ning.com/profile/FredrickDLindner
ATTENDEE;ROLE=REQ-PARTICIPANT;PARTSTAT=ACCEPTED;RSVP=TRUE;CN="Barb Fer
 ullo":http://arapahoeteaparty.ning.com/profile/BarbFerullo
END:VEVENT
END:VCALENDAR
