BEGIN:VCALENDAR
PRODID:NingEventWidget-v1
VERSION:2.0
METHOD:PUBLISH
BEGIN:VEVENT
UID:3186561:Event:53988
DTSTAMP:20210313T173312Z
SUMMARY:April 2015 Meeting: Arapahoe Tea Party-OVERVIEW OF THE FAST TR
 ACK TRADE PROMOTION AUTHORITY (TPA) AND THE TRANS-PACIFIC PARTNERSHIP 
 (TPP) TRADE AGREEMENT SOUGHT BY PRESIDENT OBAMA-PLUS MORE
DESCRIPTION:Randy B. Corporon has a meeting announcement airing period
 ically on KLZ 560 radio for this event. Â Listen there for other news 
 of this group and others.\n\nJoin the Arapahoe Tea Party and the Color
 ado Tea Party Patriots for our April 14, 2015, meeting. Â Come early f
 or a good seat and some visiting.\n\nSpeakers include:\n\n-- Steve Hou
 se, Chairman of Colorado GOP\n\nhttp://cologop.org/\n\n-- Darryl Glenn
 , candidate for U.S Senator, currently El Paso County Commissioner\n\n
 http://www.electdarrylglenn.com/\n\nhttp://www.csindy.com/IndyBlog/arc
 hives/2015/01/15/darryl-glenn-will-run-against-sen-bennet\n\nhttp://ga
 zette.com/glenn-early-announcement-for-u.s.-senate-run-shows-he-is-ver
 y-serious/article/1544655\n\n\nThere is usually more to talk about so 
 come for information and meet the speakers.\n\n\nNOTE that at the Febr
 uary meeting some people signed up to help with re-organization and he
 lping with meeting topics. Â Because of weather, I am not sure anythin
 g further was done. Â Randy Corporon has been occupied with court case
 (s), so we do need to find people who can help plan events. Â The foll
 owing entry is leftover from February.\n\n***********\n\n[topics and s
 peakers pending] -- UPDATE as of early 02/09/2015:\n\nRandy indicates 
 that the meeting will include reorganization efforts for the meeting. 
 Â So bring energy and ideas.\n\n*************\n\nAs with all of the me
 etings, come early for a good seat. Â There may be additions to the pr
 ogram.\n\nOur meetings have been standing room only, so come early!\nÂ
  \nTuesday, April 14, 2015 6:30-8:30 pm South Metro Fire Rescue 9195 E
 . Mineral Ave. Centennial, CO 80112\nÂ \nWatch for other announcements
  from Randy Corporon regarding speakers or topics. Â Listen to KLZ 560
  radio, especially Randy's show 5-8 a.m. MT weekdays.\n\nEvent announc
 ement on Facebook:\n\nÂ \n\nÂ \nIf you would be interested in helping 
 with a committee or two that might help make meetings and events run s
 moother, would you please post a brief comment with this announcement.
 \nÂ \nIf you are not connected via Facebook, please find the group \"A
 rapahoe Tea Party\"Â for news items and events:\nhttps://www.facebook.
 com/groups/arapahoeteaparty\nÂ \n*************************\n\nNOTE:Â  
 Please do not contact the building management for information about th
 is event.Â  The group sponsoring the event has contact information at 
 the link provided above.\n\n\n\nFor more information visit http://arap
 ahoeteaparty.ning.com/events/april-2015-meeting-arapahoe-tea-party
DTSTART:20150415T003000Z
DTEND:20150415T023000Z
CATEGORIES:"monthly meeting"
LOCATION:South Metro Fire Rescue Authority; Mineral Headquarters, Boar
 d Room
WEBSITE:https://maps.google.com/maps?oe=utf-8&client=firefox-a&ie=UTF-
 8&q=south+metro+fire+rescue+authority+mineral+headquarters&fb=1&gl=us&
 hq=south+metro+fire+rescue+authority+mineral+headquarters&cid=0,0,9189
 900575761474566&ei=wsvZUfvrHoWQyQHR5oGQCg&ved=0CIcBEPwSMAA
URL:https://maps.google.com/maps?oe=utf-8&client=firefox-a&ie=UTF-8&q=
 south+metro+fire+rescue+authority+mineral+headquarters&fb=1&gl=us&hq=s
 outh+metro+fire+rescue+authority+mineral+headquarters&cid=0,0,91899005
 75761474566&ei=wsvZUfvrHoWQyQHR5oGQCg&ved=0CIcBEPwSMAA
CONTACT:303-885-2550
ORGANIZER:Regina Thomson and Randy Corporon [posted by W. Branstetter]
ATTACH;FMTTYPE="image/jpeg":
ATTENDEE;ROLE=REQ-PARTICIPANT;PARTSTAT=ACCEPTED;RSVP=TRUE;CN="Randy B 
 Corporon":http://arapahoeteaparty.ning.com/profile/RandyBCorporon
ATTENDEE;ROLE=REQ-PARTICIPANT;PARTSTAT=ACCEPTED;RSVP=TRUE;CN="W. Brans
 tetter":http://arapahoeteaparty.ning.com/profile/WBranstetter
END:VEVENT
END:VCALENDAR
