BEGIN:VCALENDAR
PRODID:NingEventWidget-v1
VERSION:2.0
METHOD:PUBLISH
BEGIN:VEVENT
UID:3186561:Event:8478
DTSTAMP:20210313T172336Z
SUMMARY:AFP Rally at State Capitol--Tax Increase
DESCRIPTION:Americans For Prosperity have announced a rally to protest
  Senate legislators' proposals for $1.6 billion tax increase without o
 ffering to reduce government spending. Colorado faces more than a $1 b
 illion shortfall.\n\nIt is time to tell legislators: Spend Less Now!\n
 \nThere is an RSVP for the number in your group attending at the AFP s
 ite:\n\nhttp://americansforprosperity.org/030311-register-below-march-
 9th-spend-less-now-rally-capitol\n\nFor more information visit http://
 arapahoeteaparty.ning.com/events/afp-rally-at-state-capitoltax
DTSTART:20110309T190000Z
DTEND:20110309T203000Z
CATEGORIES:rally
LOCATION:West steps Colorado Capitol Building
WEBSITE:http://americansforprosperity.org/colorado/blog
URL:http://americansforprosperity.org/colorado/blog
CONTACT:
ORGANIZER:posted by W. Branstetter
ATTACH;FMTTYPE="image/jpeg":
ATTENDEE;ROLE=REQ-PARTICIPANT;PARTSTAT=ACCEPTED;RSVP=TRUE;CN="Ted Spru
 te":http://arapahoeteaparty.ning.com/profile/TedSprute
ATTENDEE;ROLE=REQ-PARTICIPANT;PARTSTAT=ACCEPTED;RSVP=TRUE;CN="Randy Co
 llins":http://arapahoeteaparty.ning.com/profile/RandyCollins
ATTENDEE;ROLE=REQ-PARTICIPANT;PARTSTAT=ACCEPTED;RSVP=TRUE;CN="Cathy Mi
 tchell":http://arapahoeteaparty.ning.com/profile/CathyMitchell
ATTENDEE;ROLE=REQ-PARTICIPANT;PARTSTAT=ACCEPTED;RSVP=TRUE;CN="W. Brans
 tetter":http://arapahoeteaparty.ning.com/profile/WBranstetter
ATTENDEE;ROLE=REQ-PARTICIPANT;PARTSTAT=TENTATIVE;RSVP=TRUE;CN="Barbie 
 Heath-Kelley":http://arapahoeteaparty.ning.com/profile/BarbieHeathKell
 ey
ATTENDEE;ROLE=REQ-PARTICIPANT;PARTSTAT=TENTATIVE;RSVP=TRUE;CN="REGINA 
 THOMSON":http://arapahoeteaparty.ning.com/profile/REGINATHOMSON
END:VEVENT
END:VCALENDAR
