BEGIN:VCALENDAR
PRODID:NingEventWidget-v1
VERSION:2.0
METHOD:PUBLISH
BEGIN:VEVENT
UID:3186561:Event:37798
DTSTAMP:20210313T181132Z
SUMMARY:AFP Hands Off My Healthcare Rally
DESCRIPTION:Americans for Prosperity has announced that no matter what
  the decision is on Thursday from the Supreme Court regarding the \"he
 althcare act\" (aka Obamacare) that there will be a rally on the west 
 steps of the Capitol in Denver. \n\nThere will be a bus from Colorado
  Springs and from Loveland for the event.\n\nThe group is looking for 
 an RSVP directly so they can plan for food so please try this link to 
 directly respond.  It sounds like food may be available; it is lunch 
 time after all\n \nhttp://www.eventbrite.com/event/3810519366\n \nNo
  matter what the decision, it is very likely that parts if not all of 
 the healthcare act will still need to be repealed.\n \n \n\nFor more
  information visit http://arapahoeteaparty.ning.com/events/afp-hands-o
 ff-my-healthcare-rally
DTSTART:20120629T180000Z
DTEND:20120629T190000Z
CATEGORIES:rally
LOCATION:Capitol Building, west steps
WEBSITE:http://www.eventbrite.com/event/3810519366
URL:http://www.eventbrite.com/event/3810519366
CONTACT:
ORGANIZER:Jeff Crank of AFP [posted by W. Branstetter]
ATTACH;FMTTYPE="image/jpeg":
ATTENDEE;ROLE=REQ-PARTICIPANT;PARTSTAT=ACCEPTED;RSVP=TRUE;CN="Fredrick
  Lindner":http://arapahoeteaparty.ning.com/profile/FredrickDLindner
ATTENDEE;ROLE=REQ-PARTICIPANT;PARTSTAT=ACCEPTED;RSVP=TRUE;CN="W. Brans
 tetter":http://arapahoeteaparty.ning.com/profile/WBranstetter
END:VEVENT
END:VCALENDAR
