BEGIN:VCALENDAR
PRODID:NingEventWidget-v1
VERSION:2.0
METHOD:PUBLISH
BEGIN:VEVENT
UID:3186561:Event:4134
DTSTAMP:20210313T181325Z
SUMMARY:Action committees and leadership volunteers needed
DESCRIPTION:Now is your chance to shine.\n1. We will need someone to t
 ake over the website and newsletters.\n2. We are still seeking volunte
 ers for positions to coordinate with GOOOH and a committee to set disc
 ussion and development of a proposition for amendment to our state con
 stitution.\n3. We are still looking for 2-3 members to create a team t
 o talk with the Arapahoe Sheriffs Department and review the final docu
 ments from the Continental Congress 2009.\n4. Lets see a big turn out 
 from you all to get positions filled.\n5. Congressional Candidate for 
 District 7, Ryan Frazier to speak with us on his candidacy against Ed 
 Perlmutter.\n6. We want to also bring flyers of the movie event for di
 stribution and give Jeane some time to talk about the movie and event.
 \n7. We will also get updates from Randy on the Candidate Search 2010 
 commitee's actions.\n8. We want to also ask you for your ideas on how 
 to make a difference in Colorado.\n\nThe Theatre Room seats 25 people 
 and is on the main level of the library just past the central kids boo
 ks section.\n\nFor more information visit http://arapahoeteaparty.ning
 .com/events/action-committees-and
DTSTART:20100122T011500Z
DTEND:20100122T033000Z
CATEGORIES:meeting
LOCATION:Aurora Central Library, Theatre Room
WEBSITE:
URL:
CONTACT:
ORGANIZER;CN="Chairman's Committee":http://arapahoeteaparty.ning.com/p
 rofile/chairmanscommittee
ATTACH;FMTTYPE="image/jpeg":
ATTENDEE;ROLE=REQ-PARTICIPANT;PARTSTAT=ACCEPTED;RSVP=TRUE;CN="Howard S
 cott":http://arapahoeteaparty.ning.com/profile/HowardScott
ATTENDEE;ROLE=REQ-PARTICIPANT;PARTSTAT=ACCEPTED;RSVP=TRUE;CN="Michael 
 Thomas":http://arapahoeteaparty.ning.com/profile/MichaelThomas
ATTENDEE;ROLE=REQ-PARTICIPANT;PARTSTAT=ACCEPTED;RSVP=TRUE;CN="Susan K 
 Reynolds":http://arapahoeteaparty.ning.com/profile/SusanKReynolds
ATTENDEE;ROLE=REQ-PARTICIPANT;PARTSTAT=ACCEPTED;RSVP=TRUE;CN="Greg Mey
 ers":http://arapahoeteaparty.ning.com/profile/GregMeyers
ATTENDEE;ROLE=REQ-PARTICIPANT;PARTSTAT=ACCEPTED;RSVP=TRUE;CN="Theresa 
 Collins":http://arapahoeteaparty.ning.com/profile/TheresaCollins
ATTENDEE;ROLE=REQ-PARTICIPANT;PARTSTAT=ACCEPTED;RSVP=TRUE;CN="W. Brans
 tetter":http://arapahoeteaparty.ning.com/profile/WBranstetter
ATTENDEE;ROLE=REQ-PARTICIPANT;PARTSTAT=ACCEPTED;RSVP=TRUE;CN="Chairman
 's Committee":http://arapahoeteaparty.ning.com/profile/chairmanscommit
 tee
END:VEVENT
END:VCALENDAR
