BEGIN:VCALENDAR
PRODID:NingEventWidget-v1
VERSION:2.0
METHOD:PUBLISH
BEGIN:VEVENT
UID:3186561:Event:26866
DTSTAMP:20210313T180715Z
SUMMARY:A Constitutional Guide to Fighting Federal Overreach
DESCRIPTION:The Independence Institute and the Colorado Springs Gazett
 e are sponsoring an afternoon session titled \"A Constitutional Guide 
 to Fighting Federal Overreach:  A Program for the Grassroots.\"  \n
  \nFriday, September 30, 20112:00 p.m. – 6:00 p.m.The Antlers Hilto
 nFour South CascadeColorado Springs, Colorado 80903-1685$20/person -- 
 Advance Registration is RequiredRSVP online  or call Mary at 303-279-
 6536 X102\n \nTwo top constitutional lawyers will be instructing folk
 s about the Constitution.  For the outline of the agenda and the topi
 cs that Rob Natelson and David Kopel will cover please see:\n \nhttp:
 //events.i2i.org/2011/08/31/a-constitutional-guide-to-fighting-federal
 -overreach-colorado-springs/\n \nRob Natelson will have copies availa
 ble for purchase of his 2010 book, The Original Constitution: What It
  Actually Said and Meant.  [He was on a radio show recently and comme
 nted this book is now into the second edition.]\n \nmap:\nhttp://maps
 .google.com/maps?hl=en&gs_upl=4669l13527l0l17945l16l15l0l3l3l0l533l392
 8l0.2.4.3.2.1l15l0&bav=on.2,or.r_gc.r_pw.&biw=1366&bih=587&wrapid=tlif
 131672642925510&um=1&ie=UTF-8&q=the+antlers+hilton+in+colorado+springs
 +co&fb=1&gl=us&hq=the+antlers+hilton&hnear=0x8713412ea1e6d22b:0x418eeb
 92f5e86b13,Colorado+Springs,+CO&cid=0,0,10260488954822083760&ei=taZ7Tv
 2hCpHSiAKO37zSBw&sa=X&oi=local_result&ct=image&ved=0CBUQ_BI\n \n \n\
 nFor more information visit http://arapahoeteaparty.ning.com/events/a-
 constitutional-guide-to-fighting-federal-overreach
DTSTART:20110930T200000Z
DTEND:20111001T000000Z
CATEGORIES:seminar
LOCATION:The Antlers Hilton
WEBSITE:http://maps.google.com/maps?hl=en&gs_upl=4669l13527l0l17945l16
 l15l0l3l3l0l533l3928l0.2.4.3.2.1l15l0&bav=on.2,or.r_gc.r_pw.&biw=1366&
 bih=587&wrapid=tlif131672642925510&um=1&ie=UTF-8&q=the+antlers+hilton+
 in+colorado+springs+co&fb=1&gl=us&hq=the+antlers+hilton&hnear=0x871341
 2ea1e6d22b:0x418eeb92f5e86b13,Colorado+Springs,+CO&cid=0,0,10260488954
 822083760&ei=taZ7Tv2hCpHSiAKO37zSBw&sa=X&oi=local_result&ct=image&ved=
 0CBUQ_BI
URL:http://maps.google.com/maps?hl=en&gs_upl=4669l13527l0l17945l16l15l
 0l3l3l0l533l3928l0.2.4.3.2.1l15l0&bav=on.2,or.r_gc.r_pw.&biw=1366&bih=
 587&wrapid=tlif131672642925510&um=1&ie=UTF-8&q=the+antlers+hilton+in+c
 olorado+springs+co&fb=1&gl=us&hq=the+antlers+hilton&hnear=0x8713412ea1
 e6d22b:0x418eeb92f5e86b13,Colorado+Springs,+CO&cid=0,0,102604889548220
 83760&ei=taZ7Tv2hCpHSiAKO37zSBw&sa=X&oi=local_result&ct=image&ved=0CBU
 Q_BI
CONTACT:information:  Mary at 303-279-6536 X102
ORGANIZER:posted by W. Branstetter
ATTACH;FMTTYPE="image/jpeg":
ATTENDEE;ROLE=REQ-PARTICIPANT;PARTSTAT=TENTATIVE;RSVP=TRUE;CN="W. Bran
 stetter":http://arapahoeteaparty.ning.com/profile/WBranstetter
END:VEVENT
END:VCALENDAR
