BEGIN:VCALENDAR
PRODID:NingEventWidget-v1
VERSION:2.0
METHOD:PUBLISH
BEGIN:VEVENT
UID:3186561:Event:3046
DTSTAMP:20210313T173538Z
SUMMARY:9/12 Rally
DESCRIPTION:Carole asked me to resubmitt the rally information. The 9/
 12 Rally will be held downtown on the west steps of the Capitol Buildi
 ng. In the spirit of unity that was fostered the day after the worst a
 ttack on our country we hope that our country can come together. I bel
 ieve that there will be a later vigil with music in the evening. The C
 olorado Tea Party at meetup.com is also looking for volunteer spotters
  so check out their site for details.\n\nThere is also a Freedom Confe
 rance if you wish to attend at DU in the morning if you don't wish to 
 attend the rally. You can go to freedomconference@yahoo.com to get tic
 kets and other details.\n\nFor more information visit http://arapahoet
 eaparty.ning.com/events/912-rally
DTSTART:20090912T160000Z
DTEND:20090912T200000Z
CATEGORIES:rally
LOCATION:West steps of the Capitol
WEBSITE:
URL:
CONTACT:
ORGANIZER;CN="Chairman's Committee":http://arapahoeteaparty.ning.com/p
 rofile/chairmanscommittee
ATTACH;FMTTYPE="image/jpeg":
ATTENDEE;ROLE=REQ-PARTICIPANT;PARTSTAT=ACCEPTED;RSVP=TRUE;CN="karen hu
 rst":http://arapahoeteaparty.ning.com/profile/karenhurst
ATTENDEE;ROLE=REQ-PARTICIPANT;PARTSTAT=ACCEPTED;RSVP=TRUE;CN=Kelly:htt
 p://arapahoeteaparty.ning.com/profile/Kelly
ATTENDEE;ROLE=REQ-PARTICIPANT;PARTSTAT=ACCEPTED;RSVP=TRUE;CN="Chairman
 's Committee":http://arapahoeteaparty.ning.com/profile/chairmanscommit
 tee
ATTENDEE;ROLE=REQ-PARTICIPANT;PARTSTAT=ACCEPTED;RSVP=TRUE;CN="W. Brans
 tetter":http://arapahoeteaparty.ning.com/profile/WBranstetter
END:VEVENT
END:VCALENDAR
