BEGIN:VCALENDAR
PRODID:NingEventWidget-v1
VERSION:2.0
METHOD:PUBLISH
BEGIN:VEVENT
UID:3186561:Event:22962
DTSTAMP:20210313T173245Z
SUMMARY:Backbone Radio with Jimmy Sengenberger as host
DESCRIPTION:Jimmy Sengenberger will be guest hosting for Ross Kaminsky
  again this evening. Jimmy will likely talk about the Western Conserva
 tive Summit 2011 that has been a success this weekend in Denver.\n\nI 
 suspect Jimmy will discuss the straw poll results with 508 ballots fro
 m about 1000 attendees--246 for Herman Cain.\n\nhttp://www.710knus.com
 /\n\nFor more information visit http://arapahoeteaparty.ning.com/event
 s/3186561:Event:22962
DTSTART:20110731T230000Z
DTEND:20110801T020000Z
CATEGORIES:"radio show"
LOCATION:Radio show--radio or internet
WEBSITE:
URL:
CONTACT:
ORGANIZER:posted by W. Branstetter
ATTACH;FMTTYPE="image/jpeg":
ATTENDEE;ROLE=REQ-PARTICIPANT;PARTSTAT=ACCEPTED;RSVP=TRUE;CN="W. Brans
 tetter":http://arapahoeteaparty.ning.com/profile/WBranstetter
END:VEVENT
END:VCALENDAR
